BEGIN:VCALENDAR
VERSION:2.0
PRODID:-//Graceful Purpose - ECPv6.15.20//NONSGML v1.0//EN
CALSCALE:GREGORIAN
METHOD:PUBLISH
X-WR-CALNAME:Graceful Purpose
X-ORIGINAL-URL:https://gracefulpurpose.com
X-WR-CALDESC:Events for Graceful Purpose
REFRESH-INTERVAL;VALUE=DURATION:PT1H
X-Robots-Tag:noindex
X-PUBLISHED-TTL:PT1H
BEGIN:VTIMEZONE
TZID:America/Los_Angeles
BEGIN:DAYLIGHT
TZOFFSETFROM:-0800
TZOFFSETTO:-0700
TZNAME:PDT
DTSTART:20230312T100000
END:DAYLIGHT
BEGIN:STANDARD
TZOFFSETFROM:-0700
TZOFFSETTO:-0800
TZNAME:PST
DTSTART:20231105T090000
END:STANDARD
BEGIN:DAYLIGHT
TZOFFSETFROM:-0800
TZOFFSETTO:-0700
TZNAME:PDT
DTSTART:20240310T100000
END:DAYLIGHT
BEGIN:STANDARD
TZOFFSETFROM:-0700
TZOFFSETTO:-0800
TZNAME:PST
DTSTART:20241103T090000
END:STANDARD
BEGIN:DAYLIGHT
TZOFFSETFROM:-0800
TZOFFSETTO:-0700
TZNAME:PDT
DTSTART:20250309T100000
END:DAYLIGHT
BEGIN:STANDARD
TZOFFSETFROM:-0700
TZOFFSETTO:-0800
TZNAME:PST
DTSTART:20251102T090000
END:STANDARD
END:VTIMEZONE
BEGIN:VEVENT
DTSTART;TZID=America/Los_Angeles:20240330T110000
DTEND;TZID=America/Los_Angeles:20240330T130000
DTSTAMP:20260423T204711
CREATED:20240309T172109Z
LAST-MODIFIED:20240310T234020Z
UID:22954-1711796400-1711803600@gracefulpurpose.com
SUMMARY:Easter Celebration
DESCRIPTION:Welcome to the Easter Celebration Sponsored By With Grace Hospice and The Gathering! \nCome join us at Evergreen Village Square for a fun-filled day of Easter festivities. We’ll have egg hunts\, face painting\, churros\, raffle prizes\, and more! Bring your family and friends for a day of laughter and joy. Don’t forget to bring your camera to snap a picture with the Easter Bunny! This event is perfect for all ages\, so everyone is welcome to join in on the fun. Get ready for a hopping good time at our Easter Celebration! \nEaster Egg Hunts Starts at 11:30am. \nRSVP HERE BY: Wednesday\, March 27th \nQuestions? \nCall 408-444-5500 \nSee you there!
URL:https://gracefulpurpose.com/event/easter-celebration/
LOCATION:Evergreen Village Square\, Evergreen Village Square\, San Jose\, CA\, 95135\, United States
CATEGORIES:celebration,community,family,fitness,fun,generational wealth
END:VEVENT
BEGIN:VEVENT
DTSTART;TZID=America/Los_Angeles:20240326T180000
DTEND;TZID=America/Los_Angeles:20240326T190000
DTSTAMP:20260423T204711
CREATED:20240309T171438Z
LAST-MODIFIED:20240309T174616Z
UID:22951-1711476000-1711479600@gracefulpurpose.com
SUMMARY:Loving Support Cafe for Caregivers of Dementia Patients at Westmont of Milpitas
DESCRIPTION:You are not alone in your journey. Join us for an in-person meeting where we provide emotional\, educational\, and social support to individuals caring for a loved one with dementia or those who are experiencing it. Exchange practical information\, share feelings\, experiences\, and concerns\, while providing companionship and socialization. We will delve into topics such as comfort care\, debunking myths\, and finding ways to cope. Coffee\, pastries\, and meaningful connections await you! \nDr. Marvin Masada from With Grace Hospice will be facilitating the conversation as well as providing support alongside Grace Dancel\, Director of Community Relations. \nRSVP: 408-770-9575
URL:https://gracefulpurpose.com/event/loving-support-cafe-for-caregivers-of-dementia-patients-at-wesmont-of-milpitas/
LOCATION:Westmont of Milpitas\, 80 Cedar Wy\, Milpitas\, CA\, 95035\, United States
CATEGORIES:comfort care,dementia,hospice,support
END:VEVENT
BEGIN:VEVENT
DTSTART;TZID=America/Los_Angeles:20240317T100000
DTEND;TZID=America/Los_Angeles:20240317T120000
DTSTAMP:20260423T204711
CREATED:20240309T170423Z
LAST-MODIFIED:20240309T170423Z
UID:22947-1710669600-1710676800@gracefulpurpose.com
SUMMARY:BTR TMRW Family Friendly CrossFit Training (Navigating Next)
DESCRIPTION:Navigating Next \nThe Road to Madison is a progressive journey toward home ownership and property investment through reframing our thoughts on real estate\, discovering our true potential\, and devoting ourselves to building a legacy that stands the test of time. \nJoin us for the third of four sessions at CrossFit of Fremont. We’ll be hosting a family-friendly fitness event for the entire community to demonstrate our belief that progress is attained by achieving marginal gains\, and that reaching our fullest potential undoubtedly includes keeping ourselves physical healthy and strong. \nLet’s come together for an enjoyable\, professionallly-coached workout full of inspiration and good vibes. It’s all about taking incremental steps toward becoming the best version of ourselves. And\, it’s about doing so together. \nRSVP HERE
URL:https://gracefulpurpose.com/event/btr-tmrw-family-friendly-crossfit-training-navigating-next/
LOCATION:CrossFit of Fremont\, 37330 Cedar Boulevard #Unit I & J\, Newark\, CA\, 94560\, United States
CATEGORIES:community,fitness,generational wealth,wellness
END:VEVENT
BEGIN:VEVENT
DTSTART;TZID=America/Los_Angeles:20240301T170000
DTEND;TZID=America/Los_Angeles:20240301T183000
DTSTAMP:20260423T204711
CREATED:20240301T012156Z
LAST-MODIFIED:20240301T012750Z
UID:22908-1709312400-1709317800@gracefulpurpose.com
SUMMARY:Munch and Shop At Kendra Scott’s Jewelry Store In Santana Row
DESCRIPTION:You are invited to join us for a night of Friday Night fun\, relaxation\, philantropy and retail therapy at Kendra Scott’s Storefront. They will be closing the store for our private event. \nHere is what you’ll discover inside: \nBeautiful Fashion Jewelry\nLight refreshments and drinks\nOther trailblazing women ready to connect with you\nAbout Kendra Scott \nNote: Space is limited so only register if you are able to show up (tickets are free). \nWe look forward to kicking off the weekend with you! \nRegister here for the event.
URL:https://gracefulpurpose.com/event/munch-and-shop-at-kendra-scotts-jewelry-store-in-santana-row/
LOCATION:Kendra Scott Store\, 334 Santana Row #1070\, San Jose\, CA\, 95128\, United States
END:VEVENT
END:VCALENDAR