BEGIN:VCALENDAR
VERSION:2.0
PRODID:-//Graceful Purpose - ECPv6.15.20//NONSGML v1.0//EN
CALSCALE:GREGORIAN
METHOD:PUBLISH
X-WR-CALNAME:Graceful Purpose
X-ORIGINAL-URL:https://gracefulpurpose.com
X-WR-CALDESC:Events for Graceful Purpose
REFRESH-INTERVAL;VALUE=DURATION:PT1H
X-Robots-Tag:noindex
X-PUBLISHED-TTL:PT1H
BEGIN:VTIMEZONE
TZID:America/Los_Angeles
BEGIN:DAYLIGHT
TZOFFSETFROM:-0800
TZOFFSETTO:-0700
TZNAME:PDT
DTSTART:20230312T100000
END:DAYLIGHT
BEGIN:STANDARD
TZOFFSETFROM:-0700
TZOFFSETTO:-0800
TZNAME:PST
DTSTART:20231105T090000
END:STANDARD
BEGIN:DAYLIGHT
TZOFFSETFROM:-0800
TZOFFSETTO:-0700
TZNAME:PDT
DTSTART:20240310T100000
END:DAYLIGHT
BEGIN:STANDARD
TZOFFSETFROM:-0700
TZOFFSETTO:-0800
TZNAME:PST
DTSTART:20241103T090000
END:STANDARD
BEGIN:DAYLIGHT
TZOFFSETFROM:-0800
TZOFFSETTO:-0700
TZNAME:PDT
DTSTART:20250309T100000
END:DAYLIGHT
BEGIN:STANDARD
TZOFFSETFROM:-0700
TZOFFSETTO:-0800
TZNAME:PST
DTSTART:20251102T090000
END:STANDARD
END:VTIMEZONE
BEGIN:VEVENT
DTSTART;TZID=America/Los_Angeles:20241207T110000
DTEND;TZID=America/Los_Angeles:20241207T130000
DTSTAMP:20260423T234547
CREATED:20240309T175255Z
LAST-MODIFIED:20241119T233951Z
UID:22968-1733569200-1733576400@gracefulpurpose.com
SUMMARY:Christmas Gingerbread Village At Evergreen Village Square
DESCRIPTION:RSVP HERE
URL:https://gracefulpurpose.com/event/winter-wonderland/
LOCATION:Evergreen Village Square\, Evergreen Village Square\, San Jose\, CA\, 95135\, United States
CATEGORIES:celebration,community,family,fun,mental wellness,support,wellness
END:VEVENT
BEGIN:VEVENT
DTSTART;TZID=America/Los_Angeles:20241031T180000
DTEND;TZID=America/Los_Angeles:20241031T200000
DTSTAMP:20260423T234547
CREATED:20240421T163106Z
LAST-MODIFIED:20240421T163106Z
UID:22982-1730397600-1730404800@gracefulpurpose.com
SUMMARY:Halloween At Evergreen Village Square
DESCRIPTION:Treats\nMusic\nFun\nChurros
URL:https://gracefulpurpose.com/event/halloween-at-evergreen-village-square/
LOCATION:Evergreen Village Square\, Evergreen Village Square\, San Jose\, CA\, 95135\, United States
CATEGORIES:community,fun,wellness
END:VEVENT
BEGIN:VEVENT
DTSTART;TZID=America/Los_Angeles:20240907T120000
DTEND;TZID=America/Los_Angeles:20240907T150000
DTSTAMP:20260423T234547
CREATED:20240309T174349Z
LAST-MODIFIED:20240726T211116Z
UID:22963-1725710400-1725721200@gracefulpurpose.com
SUMMARY:Wellness Fiesta!
DESCRIPTION:Free Chair Massages & Zumba Classes\nFood\, Artists & Makers\nRaffle Prizes\nMusic By Island Breeze Mobile DJ\nKid’s Court\nMental Wellness\, Resources\, Businesses & More!\n\nRSVP HERE
URL:https://gracefulpurpose.com/event/wellness-fiesta/
LOCATION:Evergreen Village Square\, Evergreen Village Square\, San Jose\, CA\, 95135\, United States
CATEGORIES:celebration,community,family,fitness,fun,purpose,support,wellness
END:VEVENT
BEGIN:VEVENT
DTSTART;TZID=America/Los_Angeles:20240531T180000
DTEND;TZID=America/Los_Angeles:20240531T200000
DTSTAMP:20260423T234547
CREATED:20240421T162842Z
LAST-MODIFIED:20240421T162842Z
UID:22980-1717178400-1717185600@gracefulpurpose.com
SUMMARY:Free Salsa Night At Evergreen Village Square
DESCRIPTION:Free Salsa Instructor\nMama Rock’s Puerto Rican Food Truck\nMusic & Live DJ\nAnd More\n\nSponsored By: With Grace Hospice and The Gathering
URL:https://gracefulpurpose.com/event/free-salsa-night-at-evergreen-village-square/
LOCATION:Evergreen Village Square\, Evergreen Village Square\, San Jose\, CA\, 95135\, United States
CATEGORIES:community,fun,wellness
END:VEVENT
BEGIN:VEVENT
DTSTART;TZID=America/Los_Angeles:20240510T183000
DTEND;TZID=America/Los_Angeles:20240510T200000
DTSTAMP:20260423T234547
CREATED:20240506T002151Z
LAST-MODIFIED:20240506T002151Z
UID:23028-1715365800-1715371200@gracefulpurpose.com
SUMMARY:Salsa Night At Evergreen Village Square
DESCRIPTION:Welcome to the Salsa Night Sponsored By With Grace Hospice and The Gathering! \nCome join us at Evergreen Village Square for a fun-filled night of Salsa Music\, Food Truck and Dancing. We’ll have Mama Roc’s Puerto Rican Food (for purchase) Truck to fill our tummies\, a DJ to keep us movin’\, and a Salsa Dance Intructor to teach us new moves. \nSalsa Dance Instruction Starts at 7pm. (all levels welcome) \nRSVP BY: Wednesday\, May 8th \nQuestions? \nCall 408-444-5500 \nSee you there!
URL:https://gracefulpurpose.com/event/salsa-night-at-evergreen-village-square-2/
LOCATION:Evergreen Village Square\, Evergreen Village Square\, San Jose\, CA\, 95135\, United States
CATEGORIES:community,fitness,fun,salsa,wellness
END:VEVENT
BEGIN:VEVENT
DTSTART;TZID=America/Los_Angeles:20240507T173000
DTEND;TZID=America/Los_Angeles:20240507T173000
DTSTAMP:20260423T234547
CREATED:20240309T175659Z
LAST-MODIFIED:20240309T175659Z
UID:22970-1715103000-1715103000@gracefulpurpose.com
SUMMARY:The Wellness Oasis 21 Day Group Cleanse: Disrupt\, Restore & Reset
DESCRIPTION:Now is a great time to get into a group of like-minded people to help sharpen your limitless leadership skills and cleanse your mind\, body and spirit so you could live out your best life in power and purpose. \nYou will take stock of your life to create a vision\, intention and identify actions that will help you thrive and transform. \nHere are some key take-aways you’ll discover inside: \n\nIncreased self awareness as to what is working and not working in areas of your life\nClarity on what you want 3 months from now\nFeel less stressed\, healthier and lighter in your body\nLearn where you need to cleanse your time so you can shift priorities and are able to flow with ease and thrive\nYour own login to your online course\nTools and confidence to make changes that last\n\nThis group is for you if you are: \n\nReady to uplevel your wellness and sharpen your leadership skills\nCommitted to showing up for yourself by meeting in a group Zoom weekly (5 times) starting on Tuesday\, Tuesday\, May 7th at 5:30pm with other like-minded people ready to support and uplevel with you\nReady to build atomic habits to take better care of yourself and your home so you can have the energy to live out your purpose and leave a legacy\n\nNote: You will receive the Zoom link in your welcome email a few days before event. \nRSVP HERE
URL:https://gracefulpurpose.com/event/the-wellness-oasis-21-day-group-cleanse-disrupt-restore-reset/
LOCATION:Zoom
CATEGORIES:accountability,chronic health,community,dreams,fitness,fun,goals,mental wellness,wellness
END:VEVENT
BEGIN:VEVENT
DTSTART;TZID=America/Los_Angeles:20240503T180000
DTEND;TZID=America/Los_Angeles:20240503T200000
DTSTAMP:20260423T234547
CREATED:20240421T162604Z
LAST-MODIFIED:20240421T162604Z
UID:22977-1714759200-1714766400@gracefulpurpose.com
SUMMARY:Salsa Night At Evergreen Village Square
DESCRIPTION:Free Salsa Instructor\nMama Rock’s Puerto Rican Food Truck\nMusic & Live DJ\nAnd More\n\nSponsored By: With Grace Hospice and The Gathering
URL:https://gracefulpurpose.com/event/salsa-night-at-evergreen-village-square/
LOCATION:Evergreen Village Square\, Evergreen Village Square\, San Jose\, CA\, 95135\, United States
CATEGORIES:community,fun,wellness
END:VEVENT
BEGIN:VEVENT
DTSTART;TZID=America/Los_Angeles:20240423T180000
DTEND;TZID=America/Los_Angeles:20240423T190000
DTSTAMP:20260423T234547
CREATED:20240309T175001Z
LAST-MODIFIED:20240309T175001Z
UID:22966-1713895200-1713898800@gracefulpurpose.com
SUMMARY:Your Loving Support Cafe at Westmont of Milpitas
DESCRIPTION:You are not alone in your journey. Join us for an in-person meeting where we provide emotional\, educational\, and social support to individuals caring for a loved one with dementia or those who are experiencing it. Exchange practical information\, share feelings\, experiences\, and concerns\, while providing companionship and socialization. We will delve into topics such as comfort care\, debunking myths\, and finding ways to cope. Coffee\, pastries\, and meaningful connections await you! \n With Grace Hospice will be facilitating the conversation as well as providing support alongside Grace Dancel\, Director of Community Relations. \nRSVP With Westmont: 408-770-9575
URL:https://gracefulpurpose.com/event/your-loving-support-cafe-at-westmont-of-milpitas/
LOCATION:Westmont of Milpitas\, 80 Cedar Wy\, Milpitas\, CA\, 95035\, United States
CATEGORIES:coffee & desserts,comfort care,community,death,dementia,family,hospice,mental wellness,peace,support,wellness
END:VEVENT
BEGIN:VEVENT
DTSTART;TZID=America/Los_Angeles:20240317T100000
DTEND;TZID=America/Los_Angeles:20240317T120000
DTSTAMP:20260423T234547
CREATED:20240309T170423Z
LAST-MODIFIED:20240309T170423Z
UID:22947-1710669600-1710676800@gracefulpurpose.com
SUMMARY:BTR TMRW Family Friendly CrossFit Training (Navigating Next)
DESCRIPTION:Navigating Next \nThe Road to Madison is a progressive journey toward home ownership and property investment through reframing our thoughts on real estate\, discovering our true potential\, and devoting ourselves to building a legacy that stands the test of time. \nJoin us for the third of four sessions at CrossFit of Fremont. We’ll be hosting a family-friendly fitness event for the entire community to demonstrate our belief that progress is attained by achieving marginal gains\, and that reaching our fullest potential undoubtedly includes keeping ourselves physical healthy and strong. \nLet’s come together for an enjoyable\, professionallly-coached workout full of inspiration and good vibes. It’s all about taking incremental steps toward becoming the best version of ourselves. And\, it’s about doing so together. \nRSVP HERE
URL:https://gracefulpurpose.com/event/btr-tmrw-family-friendly-crossfit-training-navigating-next/
LOCATION:CrossFit of Fremont\, 37330 Cedar Boulevard #Unit I & J\, Newark\, CA\, 94560\, United States
CATEGORIES:community,fitness,generational wealth,wellness
END:VEVENT
END:VCALENDAR