BEGIN:VCALENDAR
VERSION:2.0
PRODID:-//Graceful Purpose - ECPv6.15.20//NONSGML v1.0//EN
CALSCALE:GREGORIAN
METHOD:PUBLISH
X-WR-CALNAME:Graceful Purpose
X-ORIGINAL-URL:https://gracefulpurpose.com
X-WR-CALDESC:Events for Graceful Purpose
REFRESH-INTERVAL;VALUE=DURATION:PT1H
X-Robots-Tag:noindex
X-PUBLISHED-TTL:PT1H
BEGIN:VTIMEZONE
TZID:America/Los_Angeles
BEGIN:DAYLIGHT
TZOFFSETFROM:-0800
TZOFFSETTO:-0700
TZNAME:PDT
DTSTART:20230312T100000
END:DAYLIGHT
BEGIN:STANDARD
TZOFFSETFROM:-0700
TZOFFSETTO:-0800
TZNAME:PST
DTSTART:20231105T090000
END:STANDARD
BEGIN:DAYLIGHT
TZOFFSETFROM:-0800
TZOFFSETTO:-0700
TZNAME:PDT
DTSTART:20240310T100000
END:DAYLIGHT
BEGIN:STANDARD
TZOFFSETFROM:-0700
TZOFFSETTO:-0800
TZNAME:PST
DTSTART:20241103T090000
END:STANDARD
BEGIN:DAYLIGHT
TZOFFSETFROM:-0800
TZOFFSETTO:-0700
TZNAME:PDT
DTSTART:20250309T100000
END:DAYLIGHT
BEGIN:STANDARD
TZOFFSETFROM:-0700
TZOFFSETTO:-0800
TZNAME:PST
DTSTART:20251102T090000
END:STANDARD
END:VTIMEZONE
BEGIN:VEVENT
DTSTART;TZID=America/Los_Angeles:20240510T183000
DTEND;TZID=America/Los_Angeles:20240510T200000
DTSTAMP:20260423T234444
CREATED:20240506T002151Z
LAST-MODIFIED:20240506T002151Z
UID:23028-1715365800-1715371200@gracefulpurpose.com
SUMMARY:Salsa Night At Evergreen Village Square
DESCRIPTION:Welcome to the Salsa Night Sponsored By With Grace Hospice and The Gathering! \nCome join us at Evergreen Village Square for a fun-filled night of Salsa Music\, Food Truck and Dancing. We’ll have Mama Roc’s Puerto Rican Food (for purchase) Truck to fill our tummies\, a DJ to keep us movin’\, and a Salsa Dance Intructor to teach us new moves. \nSalsa Dance Instruction Starts at 7pm. (all levels welcome) \nRSVP BY: Wednesday\, May 8th \nQuestions? \nCall 408-444-5500 \nSee you there!
URL:https://gracefulpurpose.com/event/salsa-night-at-evergreen-village-square-2/
LOCATION:Evergreen Village Square\, Evergreen Village Square\, San Jose\, CA\, 95135\, United States
CATEGORIES:community,fitness,fun,salsa,wellness
END:VEVENT
END:VCALENDAR