BEGIN:VCALENDAR
VERSION:2.0
PRODID:-//Graceful Purpose - ECPv6.15.20//NONSGML v1.0//EN
CALSCALE:GREGORIAN
METHOD:PUBLISH
X-WR-CALNAME:Graceful Purpose
X-ORIGINAL-URL:https://gracefulpurpose.com
X-WR-CALDESC:Events for Graceful Purpose
REFRESH-INTERVAL;VALUE=DURATION:PT1H
X-Robots-Tag:noindex
X-PUBLISHED-TTL:PT1H
BEGIN:VTIMEZONE
TZID:America/Los_Angeles
BEGIN:DAYLIGHT
TZOFFSETFROM:-0800
TZOFFSETTO:-0700
TZNAME:PDT
DTSTART:20230312T100000
END:DAYLIGHT
BEGIN:STANDARD
TZOFFSETFROM:-0700
TZOFFSETTO:-0800
TZNAME:PST
DTSTART:20231105T090000
END:STANDARD
BEGIN:DAYLIGHT
TZOFFSETFROM:-0800
TZOFFSETTO:-0700
TZNAME:PDT
DTSTART:20240310T100000
END:DAYLIGHT
BEGIN:STANDARD
TZOFFSETFROM:-0700
TZOFFSETTO:-0800
TZNAME:PST
DTSTART:20241103T090000
END:STANDARD
BEGIN:DAYLIGHT
TZOFFSETFROM:-0800
TZOFFSETTO:-0700
TZNAME:PDT
DTSTART:20250309T100000
END:DAYLIGHT
BEGIN:STANDARD
TZOFFSETFROM:-0700
TZOFFSETTO:-0800
TZNAME:PST
DTSTART:20251102T090000
END:STANDARD
END:VTIMEZONE
BEGIN:VEVENT
DTSTART;TZID=America/Los_Angeles:20240806T103000
DTEND;TZID=America/Los_Angeles:20240806T113000
DTSTAMP:20260423T234629
CREATED:20240309T174025Z
LAST-MODIFIED:20240309T174025Z
UID:22961-1722940200-1722943800@gracefulpurpose.com
SUMMARY:Death\, Coffee & Desserts
DESCRIPTION:Join the With Grace Hospice Team for some amazing coffee and desserts. \nWe will discuss death to increase awareness so that we can make the most out of our lives here on earth. \nThis is an open conversation around death. We offer a safe place to express your feelings and thoughts. We hope this hour provides a shelter for you to feel complete and to process often complex emotions. \nYou are welcome to speak freely\, without judgement. Be prepared to share your stories. \nNote: This event is not meant to be a grief or end of life support group. \nThe space provided will be light\, insightful and fun. \nNote: This is not an “open to the public event”\, but if you would like to join\, please email me at gdancel@withgracehospice.com.
URL:https://gracefulpurpose.com/event/death-coffee-desserts-2/
LOCATION:To Be Disclosed\, San Jose\, United States
CATEGORIES:coffee & desserts,comfort care,community,death,family,goals,hospice,peace,support
END:VEVENT
BEGIN:VEVENT
DTSTART;TZID=America/Los_Angeles:20240507T103000
DTEND;TZID=America/Los_Angeles:20240507T233000
DTSTAMP:20260423T234629
CREATED:20240309T173549Z
LAST-MODIFIED:20240309T173818Z
UID:22957-1715077800-1715124600@gracefulpurpose.com
SUMMARY:Death\, Coffee & Desserts
DESCRIPTION:Join the With Grace Hospice Team for some amazing coffee and desserts. \nWe will discuss death to increase awareness so that we can make the most out of our lives here on earth. \nThis is an open conversation around death. We offer a safe place to express your feelings and thoughts. We hope this hour provides a shelter for you to feel complete and to process often complex emotions. \nYou are welcome to speak freely\, without judgement. Be prepared to share your stories. \nNote: This event is not meant to be a grief or end of life support group. \nThe space provided will be light\, insightful and fun. \nNote: This is not an “open to the public event”\, but if you would like to join\, please email me at gdancel@withgracehospice.com.
URL:https://gracefulpurpose.com/event/death-coffee-desserts/
LOCATION:To Be Disclosed\, San Jose\, United States
CATEGORIES:coffee & desserts,comfort care,community,family,hospice,peace,support
END:VEVENT
BEGIN:VEVENT
DTSTART;TZID=America/Los_Angeles:20240423T180000
DTEND;TZID=America/Los_Angeles:20240423T190000
DTSTAMP:20260423T234629
CREATED:20240309T175001Z
LAST-MODIFIED:20240309T175001Z
UID:22966-1713895200-1713898800@gracefulpurpose.com
SUMMARY:Your Loving Support Cafe at Westmont of Milpitas
DESCRIPTION:You are not alone in your journey. Join us for an in-person meeting where we provide emotional\, educational\, and social support to individuals caring for a loved one with dementia or those who are experiencing it. Exchange practical information\, share feelings\, experiences\, and concerns\, while providing companionship and socialization. We will delve into topics such as comfort care\, debunking myths\, and finding ways to cope. Coffee\, pastries\, and meaningful connections await you! \n With Grace Hospice will be facilitating the conversation as well as providing support alongside Grace Dancel\, Director of Community Relations. \nRSVP With Westmont: 408-770-9575
URL:https://gracefulpurpose.com/event/your-loving-support-cafe-at-westmont-of-milpitas/
LOCATION:Westmont of Milpitas\, 80 Cedar Wy\, Milpitas\, CA\, 95035\, United States
CATEGORIES:coffee & desserts,comfort care,community,death,dementia,family,hospice,mental wellness,peace,support,wellness
END:VEVENT
BEGIN:VEVENT
DTSTART;TZID=America/Los_Angeles:20240402T173000
DTEND;TZID=America/Los_Angeles:20240402T190000
DTSTAMP:20260423T234629
CREATED:20240301T165522Z
LAST-MODIFIED:20240309T170653Z
UID:22920-1712079000-1712084400@gracefulpurpose.com
SUMMARY:The Alignment Accelerator Group Coaching Program
DESCRIPTION:Hang out with us for 5 weeks to design your beautiful life with grace and ease. \nTODAY’S MOST COMMON PROBLEMS: \nUncertain About Current Career\nMisaligned in Goals\, Unfulfilled\nNo Time & Toxic Relationships\nClarity on Life’s Purpose\nWE WILL FOCUS ON 5 STEPS: \nCreate Alignment & Purpose\nRestore Your Time\nHeal The Heart & Mind\nEnhance Relationships\nEngineer A Happyier Workplace\nTHIS IS FOR YOU IF YOU: \nFeel stuck\, anxious & exhausted\nLack energy & sleep\nHave low immunity\, high stress & run around in circles\nHave differences with your Manager\nKEY TAKEAWAYS: \nClarity & Increased Self Awareness\nFeel Less Stressed & Live in Purpose\nHave More Time & Flow With Ease\nTools & Confidence In Taking Next Steps\nYour Own Log-In & Access To Online Course\nGroup Support & Accountability\nNote: You will receive the Zoom link in your welcome email a few days before event. \nRegister for the program here.
URL:https://gracefulpurpose.com/event/the-alignment-accelerator-group-coaching-program/
LOCATION:Zoom
CATEGORIES:alignment,dreams,goals,harmony,peace,purpose
END:VEVENT
END:VCALENDAR